BEGIN:VCALENDAR
VERSION:2.0
PRODID:-//Energize Your Life - ECPv4.6.10.1//NONSGML v1.0//EN
CALSCALE:GREGORIAN
METHOD:PUBLISH
X-WR-CALNAME:Energize Your Life
X-ORIGINAL-URL:http://www.energizeyourlife.co.nz
X-WR-CALDESC:Events for Energize Your Life
BEGIN:VEVENT
DTSTART;TZID=UTC+0:20171231T190000
DTEND;TZID=UTC+0:20171231T210000
DTSTAMP:20181221T193451
CREATED:20171226T113547Z
LAST-MODIFIED:20171226T113547Z
UID:55-1514746800-1514754000@www.energizeyourlife.co.nz
SUMMARY:Star Gazing
DESCRIPTION:
URL:http://www.energizeyourlife.co.nz/event/star-gazing/
LOCATION:Mount Maunganui\, New Zealand
ATTACH;FMTTYPE=image/jpeg:http://www.energizeyourlife.co.nz/wp-content/uploads/2017/12/stars.jpg
END:VEVENT
END:VCALENDAR